BEGIN:VCALENDAR
VERSION:2.0
PRODID:-//Carving Skills - ECPv6.15.20//NONSGML v1.0//EN
CALSCALE:GREGORIAN
METHOD:PUBLISH
X-WR-CALNAME:Carving Skills
X-ORIGINAL-URL:https://carvingskills.com
X-WR-CALDESC:Events for Carving Skills
REFRESH-INTERVAL;VALUE=DURATION:PT1H
X-Robots-Tag:noindex
X-PUBLISHED-TTL:PT1H
BEGIN:VTIMEZONE
TZID:UTC
BEGIN:STANDARD
TZOFFSETFROM:+0000
TZOFFSETTO:+0000
TZNAME:UTC
DTSTART:20210101T000000
END:STANDARD
END:VTIMEZONE
BEGIN:VEVENT
DTSTART;VALUE=DATE:20231201
DTEND;VALUE=DATE:20240301
DTSTAMP:20260423T162310
CREATED:20231123T175902Z
LAST-MODIFIED:20231123T175902Z
UID:715-1701388800-1709251199@carvingskills.com
SUMMARY:Big Picture Skiing Event
DESCRIPTION:This is the latest initiative from internationally renowned BPS founder Tom Gellie\, and World Championship alpine racer Sam Robertson; with the aim of revolutionizing ski training with tailored coaching that goes beyond your typical ski lesson.
URL:https://carvingskills.com/event/big-picture-skiing-event/
LOCATION:Virtual Event\, Quebec\, Canada
END:VEVENT
BEGIN:VEVENT
DTSTART;VALUE=DATE:20230109
DTEND;VALUE=DATE:20230113
DTSTAMP:20260423T162310
CREATED:20221215T203840Z
LAST-MODIFIED:20221215T204939Z
UID:335-1673222400-1673567999@carvingskills.com
SUMMARY:Ultimate Ski Congress Coach Introduction
DESCRIPTION:Ultimate Ski Congress coach introduction #6…Benni Walch!\nRegister now www.warrenjobbitt.com\nMont-Sainte-Anne January 9-12\, 2023\nAnyone Canada
URL:https://carvingskills.com/event/ultimate-ski-congress-coach-introduction/
LOCATION:MONT-SAINTE-ANNE ski resort\, 2000 Bd du Beau Pré\, Beaupré\, QC G0A 1E0\, Beaupré\, Quebec\, Canada
END:VEVENT
BEGIN:VEVENT
DTSTART;VALUE=DATE:20221222
DTEND;VALUE=DATE:20230211
DTSTAMP:20260423T162310
CREATED:20221215T205635Z
LAST-MODIFIED:20221215T205635Z
UID:342-1671667200-1676073599@carvingskills.com
SUMMARY:BIG PICTURE ACADEMY
DESCRIPTION:This is the latest initiative from internationally renowned BPS founder Tom Gellie\, and World Championship alpine racer Sam Robertson; with the aim of revolutionizing ski training with tailored coaching that goes beyond your typical ski lesson.
URL:https://carvingskills.com/event/big-picture-academy/
LOCATION:Virtual Event\, Quebec\, Canada
END:VEVENT
END:VCALENDAR